BEGIN:VCALENDAR
VERSION:2.0
PRODID:-//Vasantham - A Tamil Wellness Centre - ECPv6.15.11//NONSGML v1.0//EN
CALSCALE:GREGORIAN
METHOD:PUBLISH
X-WR-CALNAME:Vasantham - A Tamil Wellness Centre
X-ORIGINAL-URL:https://www.vasantham.ca/ta
X-WR-CALDESC:Events for Vasantham - A Tamil Wellness Centre
REFRESH-INTERVAL;VALUE=DURATION:PT1H
X-Robots-Tag:noindex
X-PUBLISHED-TTL:PT1H
BEGIN:VTIMEZONE
TZID:UTC
BEGIN:STANDARD
TZOFFSETFROM:+0000
TZOFFSETTO:+0000
TZNAME:UTC
DTSTART:20140101T000000
END:STANDARD
END:VTIMEZONE
BEGIN:VEVENT
DTSTART;TZID=UTC:20231204T190000
DTEND;TZID=UTC:20231204T210000
DTSTAMP:20260420T061044
CREATED:20231127T180646Z
LAST-MODIFIED:20231127T181003Z
UID:2606-1701716400-1701723600@www.vasantham.ca
SUMMARY:Complications of the Diabetes in the Tamil Community
DESCRIPTION:
URL:https://www.vasantham.ca/ta/event/complications-of-the-diabetes-in-the-tamil-community/
LOCATION:zoom – Online\, Zoom Meeting ID: 918 584 6813
CATEGORIES:Charity,Education,Health
ATTACH;FMTTYPE=image/jpeg:https://www.vasantham.ca/wp-content/uploads/2023/11/வசந்தம்-தமி-ழ்-உளவளத்துணை-நிலை-யம்-VASANTHAM-TAMIL-WELLNESS-CENTRE-PRESENTS.-Canada-EST-700-900-pm-No-Password-Psychosocial-Educational-Series-65-1.jpg
END:VEVENT
BEGIN:VEVENT
DTSTART;TZID=UTC:20210501T110000
DTEND;TZID=UTC:20220602T130000
DTSTAMP:20260420T061044
CREATED:20210430T150808Z
LAST-MODIFIED:20210430T152131Z
UID:1806-1619866800-1654174800@www.vasantham.ca
SUMMARY:Join our Seniors Social Group and Yoga
DESCRIPTION:  \n  \n 
URL:https://www.vasantham.ca/ta/event/join-our-seniors-social-group-and-yoga/
LOCATION:zoom – Online\, Zoom Meeting ID: 918 584 6813
CATEGORIES:Health
ATTACH;FMTTYPE=image/png:https://www.vasantham.ca/wp-content/uploads/2021/04/Seniors-Meeting-.png
END:VEVENT
BEGIN:VEVENT
DTSTART;TZID=UTC:20150110T140000
DTEND;TZID=UTC:20150110T153000
DTSTAMP:20260420T061044
CREATED:20190604T031906Z
LAST-MODIFIED:20210411T191851Z
UID:1447-1420898400-1420903800@www.vasantham.ca
SUMMARY:How Tamil are You?
DESCRIPTION:Vasantham – A Tamil Seniors Wellness Centre Proudly presents to you a celebration of Tamil Heritage Month 2015\nHow Tamil are You?\nThe ultimate competition where one group wins it all.\nFREE EVENT but must register on Eventbrite at http://howtamilareyou.eventbrite.ca/\n  \n  \nSATURDAY\, JANUARY 10\, 2015 AT 2 PM EST – 3:30 PM EST
URL:https://www.vasantham.ca/ta/event/how-tamil-are-you/
LOCATION:2660 Eglinton Avenue East – The Hub\, 2660 Eglinton Avenue East - The Hub\, Canada
CATEGORIES:Charity,Health
ATTACH;FMTTYPE=image/jpeg:https://www.vasantham.ca/wp-content/uploads/2019/06/10885519_321681234700908_4970753586001447767_n.jpg
END:VEVENT
END:VCALENDAR